BEGIN:VCALENDAR
VERSION:2.0
PRODID:-//ChamberMaster//Event Calendar 2.0//EN
METHOD:PUBLISH
X-PUBLISHED-TTL:P3D
REFRESH-INTERVAL:P3D
CALSCALE:GREGORIAN
BEGIN:VEVENT
DTSTART:20260728T163000Z
DTEND:20260728T180000Z
X-MICROSOFT-CDO-ALLDAYEVENT:FALSE
SUMMARY:WOMEN IN BUSINESS -GARDEN PARTY AT OAKTON ARMS
DESCRIPTION:PRESENTED BY RIVERS CASINO: \n\nEnjoy summer with our Women in Business members. Generation at Oakton Arms will be hosting a lunch and program for our July Women in Business experience. Facility Tours will be available.
X-ALT-DESC;FMTTYPE=text/html:<span style="font-size:16px\;"><span style="font-family:tahoma\;"><em><strong>&nbsp\; &nbsp\; &nbsp\; &nbsp\; &nbsp\; &nbsp\; &nbsp\; PRESENTED BY RIVERS CASINO:&nbsp\;</strong></em></span></span><br />\n<strong><span style="font-size:14px\;"><span style="font-family:tahoma\;">Enjoy summer with our Women in Business members. Generation at Oakton Arms will be hosting a lunch and program for our July Women in Business experience. Facility Tours will be available.&nbsp\;</span></span></strong>
LOCATION:GENERATIONS AT OAKTON ARMS 1660-1665 OAKTON PLACE DES PLAINES IL 60018
UID:e.320.4805
SEQUENCE:3
DTSTAMP:20260421T142905Z
URL:https://business.dpchamber.com/events/details/women-in-business-garden-party-at-oakton-arms-4805
END:VEVENT

END:VCALENDAR
