BEGIN:VCALENDAR
VERSION:2.0
PRODID:-//ChamberMaster//Event Calendar 2.0//EN
METHOD:PUBLISH
X-PUBLISHED-TTL:P3D
REFRESH-INTERVAL:P3D
CALSCALE:GREGORIAN
BEGIN:VEVENT
DTSTART:20210519T140000Z
DTEND:20210519T153000Z
X-MICROSOFT-CDO-ALLDAYEVENT:FALSE
SUMMARY:Webinar Series
DESCRIPTION:Tools for Success:\n\nNavigating the New Normal\n\n \n\nJoin us for this series of five monthly webinars to receive helpful and practical tools to navigate the new normal. Experts in their fields will show you all you need to know    from legal considerations to best practices in digital advertising\; from brand identity to effective sales techniques\; from actionable advice on marketing and communication best practices to help your small business succeed in 2021 and beyond. \n\n \n\n\n\n9:00   10:30 a.m. Wednesday\, May 19\, 2021\n\n \n\n\n\nRyan Weckerly\n\nMorningstar Media Group\n\nrweckerly@morningstarmediagroup.com\n\n \n\nMarketing is more than just surface level\, it's data and creating a strategy that reflects your business in order to reach your intended audience. When done right\, marketing can translate to a stronger brand as well as more profit for your business.\n\n \n\nRyan Weckerly will discuss how the right technology tools\, combined with human interaction to develop more powerful leads\, profitable sale\, and long-term relationships for your brand.\n\n \n\nAttendees will learn how these takeaways will help you effectively market your business:\n\n \n\n \n\n	Dynamic web content\n	Strong SEO\n	Lead scoring and nurturing\n	Lead destination tracking\n	A vital SRM\n	Behavioral based automated e-mails\n	Performance analytics\n\n \n\nAs president of MorningStar Media Group\, he has built an extensive clientele base.  Ryan has seen clients through crisis and economic downturns by creating strategic campaigns that stand the test of time. Ryan holds a Bachelor of Arts in Mass Communications with an emphasis in Media Science and Consumer Behaviors from Southern Illinois University\, and he didn't stop there. Continuing education is an important part of Ryan's career. He frequently attends web development and marketing seminars to stay on top of ever-evolving trends\, and does continual studies on search engine optimization. While Ryan seeks out any chance to gain the latest knowledge\, he also a selected member of the Forbes Agency Council\, where he regularly publishes his insights and best practices on marketing strategy and communications. You can also find Ryan on the national speaking circuit covering social media\, internet marketing\, and website development.
X-ALT-DESC;FMTTYPE=text/html:<strong><span style="background: white\;"><span style="font-family: arial\,sans-serif\;"><span style="font-size: medium\;">Tools for Success:</span></span></span></strong><br />\n<strong><span style="background: white\;"><span style="font-family: arial\,sans-serif\;"><span style="font-size: medium\;">Navigating the New Normal</span></span></span></strong><br />\n&nbsp\;<br />\n<span style="font-size: medium\;"><em><span style="background: white\;"><span style="font-family: arial\,sans-serif\;">Join us for this series of five monthly webinars to receive helpful and practical tools to navigate the new normal. Experts in their fields will show you all you need to know &nbsp\;&ndash\; from legal considerations to best practices in digital advertising\; from brand identity to effective sales techniques\; from </span></span></em><em><span style="font-family: arial\,sans-serif\;"><span style="color: black\;">actionable advice on marketing and communication best practices to help your small business succeed in 2021 and beyond.&nbsp\;</span></span></em></span><br />\n&nbsp\;<br />\n<br />\n<strong><u><span style="font-family: arial\,sans-serif\;"><span style="font-size: medium\;">9:00 &ndash\; 10:30 a.m. Wednesday\, May 19\, 2021</span></span></u></strong><br />\n&nbsp\;<br />\n<br />\n<span style="font-family: arial\,sans-serif\;"><span style="font-size: medium\;">Ryan Weckerly</span></span><br />\n<span style="font-family: arial\,sans-serif\;"><span style="font-size: medium\;">Morningstar Media Group</span></span><br />\n<span style="font-family: arial\,sans-serif\;"><span style="font-size: medium\;">rweckerly@morningstarmediagroup.com</span></span><br />\n&nbsp\;<br />\n<span style="font-family: arial\,sans-serif\;"><span style="font-size: medium\;">Marketing is more than just surface level\, it&rsquo\;s data and creating a strategy that reflects your business in order to reach your intended audience. When done right\, marketing can translate to a stronger brand as well as more profit for your business.</span></span><br />\n&nbsp\;<br />\n<span style="font-family: arial\,sans-serif\;"><span style="font-size: medium\;">Ryan Weckerly will discuss how the right technology tools\, combined with human interaction to develop more powerful leads\, profitable sale\, and long-term relationships for your brand.</span></span><br />\n&nbsp\;<br />\n<span style="font-family: arial\,sans-serif\;"><span style="font-size: medium\;">Attendees will learn how these takeaways will help you effectively market your business:</span></span><br />\n&nbsp\;<br />\n&nbsp\;\n<ul>\n	<li><span style="font-family: arial\,sans-serif\;"><span style="font-size: medium\;">Dynamic web content</span></span></li>\n	<li><span style="font-family: arial\,sans-serif\;"><span style="font-size: medium\;">Strong SEO</span></span></li>\n	<li><span style="font-family: arial\,sans-serif\;"><span style="font-size: medium\;">Lead scoring and nurturing</span></span></li>\n	<li><span style="font-family: arial\,sans-serif\;"><span style="font-size: medium\;">Lead destination tracking</span></span></li>\n	<li><span style="font-family: arial\,sans-serif\;"><span style="font-size: medium\;">A vital SRM</span></span></li>\n	<li><span style="font-family: arial\,sans-serif\;"><span style="font-size: medium\;">Behavioral based automated e-mails</span></span></li>\n	<li><span style="font-family: arial\,sans-serif\;"><span style="font-size: medium\;">Performance analytics</span></span></li>\n</ul>\n&nbsp\;<br />\n<span style="font-size: 8pt\;"><span style="font-family: arial\,sans-serif\;">As president of MorningStar Media Group\, he has built an extensive clientele base.&nbsp\; Ryan has seen clients through crisis and economic downturns by creating strategic campaigns that stand the test of time.&nbsp\;Ryan holds a Bachelor of Arts in Mass Communications with an emphasis in Media Science and Consumer Behaviors from Southern Illinois University\, and he didn&rsquo\;t stop there. Continuing education is an important part of Ryan&rsquo\;s career. He frequently attends web development and marketing seminars to stay on top of ever-evolving trends\, and does continual studies on search engine optimization. While Ryan seeks out any chance to gain the latest knowledge\, he also a selected member of the&nbsp\;</span></span><a href="https://www.forbes.com/sites/forbesagencycouncil/#59cb66532866"><span style="font-size: 8pt\;"><span style="font-family: arial\,sans-serif\;"><span style="color: windowtext\;">Forbes Agency Council</span></span></span></a><span style="font-size: 8pt\;"><span style="font-family: arial\,sans-serif\;">\, where he regularly publishes&nbsp\;his insights and best practices on marketing strategy and communications.&nbsp\;You can also find Ryan on the national speaking circuit covering social media\, internet marketing\, and website development.&nbsp\;</span></span><br />\n<br />\n&nbsp\;<br />\n<span style="font-size: medium\;">&nbsp\;</span><br />\n&nbsp\;
LOCATION:How COVID Helped A New Coffee Shop Succeed Presented by Ryan Weckerly Time: May 19\, 2021 09:00 AM Central Time (US and Canada) Join Zoom Meeting https://us02web.zoom.us/j/86440801610?pwd=Qkl0cTZpM1hGV0J3U0VRNkRYTGpNdz09 Meeting ID: 864 4080 1610 Passcode: 441670 One tap mobile +13126266799\,\,86440801610#\,\,\,\,*441670# US (Chicago) Dial by your location +1 312 626 6799 US (Chicago) Meeting ID: 864 4080 1610 Passcode: 441670
UID:e.320.3474
SEQUENCE:3
DTSTAMP:20260423T050239Z
URL:https://business.dpchamber.com/events/details/webinar-series-3474
END:VEVENT

END:VCALENDAR
