BEGIN:VCALENDAR
VERSION:2.0
PRODID:-//ChamberMaster//Event Calendar 2.0//EN
METHOD:PUBLISH
X-PUBLISHED-TTL:P3D
REFRESH-INTERVAL:P3D
CALSCALE:GREGORIAN
BEGIN:VEVENT
DTSTART:20230928T140000Z
DTEND:20230928T153000Z
X-MICROSOFT-CDO-ALLDAYEVENT:FALSE
SUMMARY:SECRET TO SUCCESS -MAKING THE MOST OF YOUR CHAMBER MEMBERSHIP
DESCRIPTION:Find out the Secret to Success - Making the Most of Your Chamber Membership.  Make the most of your chamber membership by learning from the experts. Get the inside scoop on membership tools and benefits\, network with fellow chamber members and get your secret to chamber success.
X-ALT-DESC;FMTTYPE=text/html:<span style="font-size: 18px\;"><strong><span style="font-family: tahoma\;">Find out the&nbsp\;<em>Secret to Success - Making the Most of Your Chamber</em>&nbsp\;<em>Membership</em>.&nbsp\; M</span></strong><span style="font-family: tahoma\;"><strong>ake the most of your chamber membership by learning from the&nbsp\;experts.&nbsp\;Get the inside scoop on membership tools and benefits\, network with fellow chamber members and get your secret to chamber success.</strong></span></span>\n<div>&nbsp\;</div>\n\n<div>&nbsp\;</div>\n<br />\n&nbsp\;
LOCATION:Des Plaines Chamber of Commerce & Industry 1400 E. Touhy Avenue #145 Des Plaines IL 60018
UID:e.320.4562
SEQUENCE:3
DTSTAMP:20260423T091040Z
URL:https://business.dpchamber.com/events/details/secret-to-success-making-the-most-of-your-chamber-membership-4562
END:VEVENT

END:VCALENDAR
