BEGIN:VCALENDAR
VERSION:2.0
PRODID:-//ChamberMaster//Event Calendar 2.0//EN
METHOD:PUBLISH
X-PUBLISHED-TTL:P3D
REFRESH-INTERVAL:P3D
CALSCALE:GREGORIAN
BEGIN:VEVENT
DTSTART:20121027T144500Z
DTEND:20121027T190000Z
X-MICROSOFT-CDO-ALLDAYEVENT:FALSE
SUMMARY:Safe Saturday Halloween
DESCRIPTION:The Des Plaines Chamber of Commerce\, Des Plaines Park District\, Des Plaines Historical Society\, and the Des Plaines Public Library are joining together to create a full day of activities for you and your family so you can enjoy a safe and fun day for Halloween.\n\n	  \n\n	The festivities begin with a costumed parade\, sponsored by the Des Plaines Chamber of Commerce\, Ace Hardware - Des Plaines and Horton Wellness & Chiropractic.\n\n	Parade will be led by "Jewels the Clown" and "Kiwi the Clown" at 10:00 a.m. \n\n	 \n\n	 \n\n	The Chamber will provide a trick or treat bag with fun prizes inside and then after the parade they will have a chance to "trick or treat"\n\n	at the chamber participating businesses throughout Des Plaines.\n\n	 \n\n	Additional free events for the day include:\n\n	Day of the Dead Festivities at the History Center. Drop in between 11:00 and 4:00 to see the special decorations\, decorate your very own Mexican sugar skull and drink hot chocolate.\n\n	 Crafts at the Des Plaines Public Library from 1:00 to 3:00 - Sponsored by the Park District.\n\n	Magic & Illusion  of Paul Lee & Co. sponsored by the Des Plaines Public Library beginning at 3:00 pm.
X-ALT-DESC;FMTTYPE=text/html:<div>\n	<font face="Tahoma" size="4">The Des Plaines Chamber of Commerce\, Des Plaines Park District\, Des Plaines Historical Society\,&nbsp\;and the&nbsp\;Des Plaines Public Library&nbsp\;are joining together to create a full day of activities for you and your family so you can enjoy a safe and fun day for Halloween.</font></div>\n<div>\n	&nbsp\;&nbsp\;</div>\n<div>\n	<font face="Tahoma" size="4">The festivities begin with a </font><font face="Tahoma" size="4">costumed parade\, <span style="color: #ff8c00">sponsored by the Des Plaines Chamber of Commerce\, Ace Hardware - Des Plaines and Horton Wellness &amp\; Chiropractic.</span><br />\n	Parade&nbsp\;will be led by &quot\;Jewels the Clown&quot\;&nbsp\;and &quot\;Kiwi the Clown&quot\;&nbsp\;at 10:00 a.m. </font><br />\n	&nbsp\;</div>\n<div>\n	&nbsp\;</div>\n<div>\n	<font face="Tahoma" size="4">The Chamber&nbsp\;will provide&nbsp\;a trick or treat bag with fun prizes&nbsp\;inside and then after the parade they will have a chance to &quot\;trick or treat&quot\;</font></div>\n<div>\n	<font face="Tahoma" size="4">at the chamber participating businesses throughout Des Plaines.</font></div>\n<div>\n	&nbsp\;</div>\n<div>\n	<font face="Tahoma" size="4">Additional free events for the day include:</font></div>\n<div>\n	<font face="Tahoma" size="4">Day of the Dead Festivities at the History Center. Drop in&nbsp\;between 11:00 and 4:00 to see the special decorations\, decorate your very own Mexican sugar skull and drink hot chocolate.</font></div>\n<div>\n	&nbsp\;<font face="Tahoma" size="4">Crafts at the Des Plaines Public Library from 1:00 to 3:00 - Sponsored by the Park District.<br />\n	Magic &amp\; Illusion&nbsp\;&nbsp\;of Paul Lee &amp\; Co. sponsored by the Des Plaines Public Library beginning at 3:00 pm.</font></div>\n
LOCATION:Metropolitan Square Des Plaines
UID:e.320.1473
SEQUENCE:3
DTSTAMP:20260423T111025Z
URL:https://business.dpchamber.com/events/details/safe-saturday-halloween-10-27-2012-1473
END:VEVENT

END:VCALENDAR
