BEGIN:VCALENDAR
VERSION:2.0
PRODID:-//ChamberMaster//Event Calendar 2.0//EN
METHOD:PUBLISH
X-PUBLISHED-TTL:P3D
REFRESH-INTERVAL:P3D
CALSCALE:GREGORIAN
BEGIN:VEVENT
DTSTART:20260811T210000Z
DTEND:20260811T230000Z
X-MICROSOFT-CDO-ALLDAYEVENT:FALSE
SUMMARY:NETWORKING AFTER HOURS- Senior Helpers Greater Chicago
DESCRIPTION:
X-ALT-DESC;FMTTYPE=text/html:
LOCATION:
UID:e.320.4840
SEQUENCE:3
DTSTAMP:20260421T142431Z
URL:https://business.dpchamber.com/events/details/networking-after-hours-senior-helpers-greater-chicago-4840
END:VEVENT

END:VCALENDAR
