BEGIN:VCALENDAR
VERSION:2.0
PRODID:-//ChamberMaster//Event Calendar 2.0//EN
METHOD:PUBLISH
X-PUBLISHED-TTL:P3D
REFRESH-INTERVAL:P3D
CALSCALE:GREGORIAN
BEGIN:VEVENT
DTSTART:20260512T210000Z
DTEND:20260512T230000Z
X-MICROSOFT-CDO-ALLDAYEVENT:FALSE
SUMMARY:NETWORKING AFTER HOURS -MAY -GENCenter
DESCRIPTION:May brings Springtime and Springtime brings a blooming new era for \n\n                                                  the GENCenter !\n\n\n\nAs host of the Chamber's Networking After Hours\, the GENCenter looks forward to welcoming you on Tuesday\, May 12\, 2026\, for Networking After Hours. Exciting things are happening here at the Center   a fresh new look inside and out! We look forward to hosting our business community and community partners as we re-introduce the organization. While here\, think "Happy Hour"   relax and enjoy billiards\, ping pong\, cornhole\, darts\, and foosball\, all while you mingle with your colleagues. Refreshments and light appetizers will be provided.
X-ALT-DESC;FMTTYPE=text/html:<strong><span style="font-size:16px\;"><span style="color:#2F4F4F\;"><span style="font-size:18px\;">&nbsp\;&nbsp\;May brings Springtime and Springtime brings a blooming new era for&nbsp\;<br />\n&nbsp\; &nbsp\; &nbsp\; &nbsp\; &nbsp\; &nbsp\; &nbsp\; &nbsp\; &nbsp\; &nbsp\; &nbsp\; &nbsp\; &nbsp\; &nbsp\; &nbsp\; &nbsp\; &nbsp\; &nbsp\; &nbsp\; &nbsp\; &nbsp\; &nbsp\; &nbsp\; &nbsp\; &nbsp\; the GENCenter !</span><br />\n<br />\nAs host of the Chamber&#39\;s Networking After Hours\, the GENCenter looks forward to welcoming you on Tuesday\, May 12\, 2026\, for Networking After Hours. Exciting things are happening here at the Center &ndash\; a fresh new look inside and out! We look forward to hosting our business community and community partners as we re-introduce the organization. While here\, think &ldquo\;Happy Hour&rdquo\; &ndash\; relax and enjoy billiards\, ping pong\, cornhole\, darts\, and foosball\, all while you mingle with your colleagues. Refreshments and light appetizers will be provided.</span></span></strong>
LOCATION:GENCenter 52 E. Northwest Highway Des Plaines IL 60016
UID:e.320.4772
SEQUENCE:3
DTSTAMP:20260421T011507Z
URL:https://business.dpchamber.com/events/details/networking-after-hours-may-gencenter-4772
END:VEVENT

END:VCALENDAR
