BEGIN:VCALENDAR
VERSION:2.0
PRODID:-//ChamberMaster//Event Calendar 2.0//EN
METHOD:PUBLISH
X-PUBLISHED-TTL:P3D
REFRESH-INTERVAL:P3D
CALSCALE:GREGORIAN
BEGIN:VEVENT
DTSTART:20260710T130000Z
DTEND:20260710T143000Z
X-MICROSOFT-CDO-ALLDAYEVENT:FALSE
SUMMARY:FIRST FRIDAY - JULY CONNECT WITH COFFEE AND CONVERSATION (SPECIAL DATE)
DESCRIPTION:First Friday Networking -Connect with coffee and conversation with your fellow Chamber members at the First Friday breakfast.  Take advantage of the networking and round table discussions and gain solid business leads while enjoying a hearty breakfast buffet.  Bring your business cards!
X-ALT-DESC;FMTTYPE=text/html:<strong><span style="color:#333333\;"><span style="font-family:tahoma\,sans-serif\;"><span style="font-size:13.5pt\;">First Friday Networking -Connect with coffee and conversation<span style="background:white\;">&nbsp\;with your fellow Chamber members at the First Friday breakfast.&nbsp\;&nbsp\;Take&nbsp\;advantage of the networking and round table discussions and gain&nbsp\;solid business leads while enjoying a hearty breakfast buffet.&nbsp\;&nbsp\;Bring your business cards!&nbsp\;</span></span></span></span></strong>
LOCATION:Katie's Kitchen 623 N. Wolf Road Des Plaines 60016
UID:e.320.4742
SEQUENCE:3
DTSTAMP:20260423T104957Z
URL:https://business.dpchamber.com/events/details/first-friday-july-connect-with-coffee-and-conversation-special-date-4742
END:VEVENT

END:VCALENDAR
